BEGIN:VCALENDAR
VERSION:2.0
PRODID:-//Luddon Training - ECPv6.15.18//NONSGML v1.0//EN
CALSCALE:GREGORIAN
METHOD:PUBLISH
X-WR-CALNAME:Luddon Training
X-ORIGINAL-URL:https://luddon.co.uk/training
X-WR-CALDESC:Events for Luddon Training
REFRESH-INTERVAL;VALUE=DURATION:PT1H
X-Robots-Tag:noindex
X-PUBLISHED-TTL:PT1H
BEGIN:VTIMEZONE
TZID:Europe/London
BEGIN:DAYLIGHT
TZOFFSETFROM:+0000
TZOFFSETTO:+0100
TZNAME:BST
DTSTART:20230326T010000
END:DAYLIGHT
BEGIN:STANDARD
TZOFFSETFROM:+0100
TZOFFSETTO:+0000
TZNAME:GMT
DTSTART:20231029T010000
END:STANDARD
BEGIN:DAYLIGHT
TZOFFSETFROM:+0000
TZOFFSETTO:+0100
TZNAME:BST
DTSTART:20240331T010000
END:DAYLIGHT
BEGIN:STANDARD
TZOFFSETFROM:+0100
TZOFFSETTO:+0000
TZNAME:GMT
DTSTART:20241027T010000
END:STANDARD
BEGIN:DAYLIGHT
TZOFFSETFROM:+0000
TZOFFSETTO:+0100
TZNAME:BST
DTSTART:20250330T010000
END:DAYLIGHT
BEGIN:STANDARD
TZOFFSETFROM:+0100
TZOFFSETTO:+0000
TZNAME:GMT
DTSTART:20251026T010000
END:STANDARD
END:VTIMEZONE
BEGIN:VEVENT
DTSTART;TZID=Europe/London:20240429T080000
DTEND;TZID=Europe/London:20240429T170000
DTSTAMP:20260419T231838
CREATED:20240429T133632Z
LAST-MODIFIED:20250627T103424Z
UID:113-1714377600-1714410000@luddon.co.uk
SUMMARY:EUSR Category 1 and 2: Locate Utility Services and Implement Safe Excavating Practices
DESCRIPTION:Duration \n2 Days \nCandidates: 3 – 6 \nThis EUSR course combines both Category 1 – Locate Utility Services and Category 2 – Implement Safe Excavating Practices. It covers the training and assessments needed for safe detection and excavation of underground utility services\, utilising recognised and approved methods. \n\nThis course is designed for managers\, supervisors\, safety professionals\, and operatives who are responsible for overseeing or performing tasks involving the detection of underground services and safe excavation practices. \nCourse Content \n\nHow to interpret utility plan drawings\, symbols\, and coded information\nThe safe use of location equipment to detect a range of underground services\nThe hazards associated with underground services and how to mitigate risks\nEffective site marking and preparation before excavation\nSafe digging techniques using both hand tools and hand-held power tools\n\nCertification \nCandidates will receive an EUSR photo ID card detailing their qualification which is valid for 5 Years
URL:https://luddon.co.uk/training/course/eusr-cat-1-and-2/
LOCATION:Luddon Training Centre\, Balmore House\, 1497 Balmore Rd\, Glasgow\, G23 5HD
CATEGORIES:Roadworks & Excavation
END:VEVENT
END:VCALENDAR